BEGIN:VCALENDAR
VERSION:2.0
PRODID:-//Lifetime Resources - ECPv6.15.17.1//NONSGML v1.0//EN
CALSCALE:GREGORIAN
METHOD:PUBLISH
X-WR-CALNAME:Lifetime Resources
X-ORIGINAL-URL:https://lifetime-resources.org
X-WR-CALDESC:Events for Lifetime Resources
REFRESH-INTERVAL;VALUE=DURATION:PT1H
X-Robots-Tag:noindex
X-PUBLISHED-TTL:PT1H
BEGIN:VTIMEZONE
TZID:America/Indiana/Indianapolis
BEGIN:DAYLIGHT
TZOFFSETFROM:-0500
TZOFFSETTO:-0400
TZNAME:EDT
DTSTART:20240310T070000
END:DAYLIGHT
BEGIN:STANDARD
TZOFFSETFROM:-0400
TZOFFSETTO:-0500
TZNAME:EST
DTSTART:20241103T060000
END:STANDARD
BEGIN:DAYLIGHT
TZOFFSETFROM:-0500
TZOFFSETTO:-0400
TZNAME:EDT
DTSTART:20250309T070000
END:DAYLIGHT
BEGIN:STANDARD
TZOFFSETFROM:-0400
TZOFFSETTO:-0500
TZNAME:EST
DTSTART:20251102T060000
END:STANDARD
BEGIN:DAYLIGHT
TZOFFSETFROM:-0500
TZOFFSETTO:-0400
TZNAME:EDT
DTSTART:20260308T070000
END:DAYLIGHT
BEGIN:STANDARD
TZOFFSETFROM:-0400
TZOFFSETTO:-0500
TZNAME:EST
DTSTART:20261101T060000
END:STANDARD
END:VTIMEZONE
BEGIN:VEVENT
DTSTART;TZID=America/Indiana/Indianapolis:20250917T080000
DTEND;TZID=America/Indiana/Indianapolis:20250917T163000
DTSTAMP:20260420T020738
CREATED:20250903T170943Z
LAST-MODIFIED:20250903T170943Z
UID:1722-1758096000-1758126600@lifetime-resources.org
SUMMARY:Walk-In Wednesday
DESCRIPTION:Looking for information or care for yourself or a loved one? \nHave questions or need support? Unsure where to start? \n  \nCall us Monday to Friday 8:00 am to 4:30 pm. \n  \nUnable to talk on the phone? \nFace to Face conversation preferred? \n  \nWe have you covered with Walk in Wednesdays!
URL:https://lifetime-resources.org/event/walk-in-wednesday-2/
LOCATION:LifeTime Resources\, 13091 Benedict Drive\, Dillsboro\, IN\, 47018\, United States
CATEGORIES:Home & Community Care Management
ATTACH;FMTTYPE=image/png:https://lifetime-resources.org/wp-content/uploads/2025/09/Walk-In.png
END:VEVENT
BEGIN:VEVENT
DTSTART;TZID=America/Indiana/Indianapolis:20250910T080000
DTEND;TZID=America/Indiana/Indianapolis:20250910T163000
DTSTAMP:20260420T020738
CREATED:20250903T170904Z
LAST-MODIFIED:20250903T170904Z
UID:1718-1757491200-1757521800@lifetime-resources.org
SUMMARY:Walk-In Wednesday
DESCRIPTION:Looking for information or care for yourself or a loved one? \nHave questions or need support? Unsure where to start? \n  \nCall us Monday to Friday 8:00 am to 4:30 pm. \n  \nUnable to talk on the phone? \nFace to Face conversation preferred? \n  \nWe have you covered with Walk in Wednesdays!
URL:https://lifetime-resources.org/event/walk-in-wednesday/
LOCATION:LifeTime Resources\, 13091 Benedict Drive\, Dillsboro\, IN\, 47018\, United States
CATEGORIES:Home & Community Care Management
ATTACH;FMTTYPE=image/png:https://lifetime-resources.org/wp-content/uploads/2025/09/Walk-In.png
END:VEVENT
BEGIN:VEVENT
DTSTART;TZID=America/Indiana/Indianapolis:20250909T140000
DTEND;TZID=America/Indiana/Indianapolis:20250909T153000
DTSTAMP:20260420T020738
CREATED:20250903T171917Z
LAST-MODIFIED:20250903T171956Z
UID:1724-1757426400-1757431800@lifetime-resources.org
SUMMARY:Caregiver Support Group
DESCRIPTION:2nd Tuesday of every month. \n  \nPlease RSVP to Support Group Facilitator\, Anna Chaney \nPhone/Text: 812.432.6216 \nEmail: achaney@lifetime-resources.org \n*RSVP is optional. Please note that all participants will be asked to sign in.
URL:https://lifetime-resources.org/event/caregiver-support-group/
LOCATION:The Waters of Dillsboro – Ross Manor\, 12803 Lenover St.\, Dillsboro\, IN\, 47018\, United States
CATEGORIES:Caregiver Support
ATTACH;FMTTYPE=image/png:https://lifetime-resources.org/wp-content/uploads/2025/09/Caregiver-Support-Group.png
ORGANIZER;CN="Anna Chaney":MAILTO:achaney@lifetime-resources.org
END:VEVENT
END:VCALENDAR