BEGIN:VCALENDAR
VERSION:2.0
PRODID:-//Lifetime Resources - ECPv6.15.17.1//NONSGML v1.0//EN
CALSCALE:GREGORIAN
METHOD:PUBLISH
X-WR-CALNAME:Lifetime Resources
X-ORIGINAL-URL:https://lifetime-resources.org
X-WR-CALDESC:Events for Lifetime Resources
REFRESH-INTERVAL;VALUE=DURATION:PT1H
X-Robots-Tag:noindex
X-PUBLISHED-TTL:PT1H
BEGIN:VTIMEZONE
TZID:UTC
BEGIN:STANDARD
TZOFFSETFROM:+0000
TZOFFSETTO:+0000
TZNAME:UTC
DTSTART:20240101T000000
END:STANDARD
END:VTIMEZONE
BEGIN:VEVENT
DTSTART;TZID=UTC:20251024T120000
DTEND;TZID=UTC:20251024T130000
DTSTAMP:20260423T042035
CREATED:20251014T131122Z
LAST-MODIFIED:20251014T131122Z
UID:1775-1761307200-1761310800@lifetime-resources.org
SUMMARY:Annual Senior Trunk-r-Treat
DESCRIPTION:Dearborn Adult Center \nFriday\, October 24th\n🕛 12:00–1:00 PM\n📍 Back parking lot \n\nDecorated Trunks of local businesses!\nBrochures\, business cards\, giveaways\, and candy!\nMembers will vote on their favorite trunk!
URL:https://lifetime-resources.org/event/annual-senior-trunk-r-treat/
LOCATION:Dearborn Adult Center\, 311 W. Tate St\, Lawrenceburg\, IN\, 47025\, United States
END:VEVENT
END:VCALENDAR